BEGIN:VCALENDAR
VERSION:2.0
PRODID:-//ChamberMaster//Event Calendar 2.0//EN
METHOD:PUBLISH
X-PUBLISHED-TTL:P3D
REFRESH-INTERVAL:P3D
CALSCALE:GREGORIAN
BEGIN:VEVENT
DTSTART:20190719T170000Z
DTEND:20190722T000000Z
X-MICROSOFT-CDO-ALLDAYEVENT:FALSE
SUMMARY:11th Anniversary Olympic Driftwood Sculptors Art Show
DESCRIPTION:11th Annual Olympic Driftwood Sculptors Art Show. Over 150 driftwood sculptures by member artists will be showcased and works in progress will be demonstrated. One of a kind driftwood items will be for sale and raffle tickets for an original sculpture will be available.
X-ALT-DESC;FMTTYPE=text/html:11th Annual Olympic Driftwood Sculptors Art Show. Over 150 driftwood sculptures by member artists will be showcased and works in progress will be demonstrated. One of a kind driftwood items will be for sale and raffle tickets for an original sculpture will be available.
LOCATION:Sequim Middle School 301 W. Hendrickson Rd Sequim\, WA 98382
UID:e.2672.13277
SEQUENCE:3
DTSTAMP:20260420T223046Z
URL:https://business.sequimchamber.com/events/details/11th-anniversary-olympic-driftwood-sculptors-art-show-13277
END:VEVENT

END:VCALENDAR
