BEGIN:VCALENDAR
VERSION:2.0
PRODID:-//ChamberMaster//Event Calendar 2.0//EN
METHOD:PUBLISH
X-PUBLISHED-TTL:P3D
REFRESH-INTERVAL:P3D
CALSCALE:GREGORIAN
BEGIN:VEVENT
DTSTART:20250607T000000Z
DTEND:20250607T030000Z
X-MICROSOFT-CDO-ALLDAYEVENT:FALSE
SUMMARY:1st Friday Art Walk Dinner
DESCRIPTION:Join us at Riverhouse Bakery & Bistro for the 1st Friday Art Walk Dinner. We will be showcasing the work of Photographer Kelli Ward and live music by Deadwood Revival.
X-ALT-DESC;FMTTYPE=text/html:Join us at Riverhouse Bakery &amp\; Bistro for the 1st Friday Art Walk Dinner. We will be showcasing the work of Photographer Kelli Ward and live music by Deadwood Revival.
LOCATION:Riverhouse Bakery & Bistro 120 W. Bell St. Sequim\, WA
UID:e.2672.23560
SEQUENCE:3
DTSTAMP:20260419T180636Z
URL:https://business.sequimchamber.com/events/details/1st-friday-art-walk-dinner-23560
END:VEVENT

END:VCALENDAR
