BEGIN:VCALENDAR
VERSION:2.0
PRODID:-//ChamberMaster//Event Calendar 2.0//EN
METHOD:PUBLISH
X-PUBLISHED-TTL:P3D
REFRESH-INTERVAL:P3D
CALSCALE:GREGORIAN
BEGIN:VEVENT
DTSTART:20180209T030000Z
DTEND:20180209T050000Z
X-MICROSOFT-CDO-ALLDAYEVENT:FALSE
SUMMARY:2018 Traveler’s Journal
DESCRIPTION:"Arctic\, to the Antarctic" By Mark Roye & Nancy Krill. They sailed in the wake of the Pacific Northwest Maritime Fur Trade. Sailing their ketch Tamara from Hudson Strait to Alaska. The couple was awarded the Cruising Club of America's Charles H. Vilas Prize for 2011 and the Royal Cruising Club Trophy for 2012.
X-ALT-DESC;FMTTYPE=text/html:&ldquo\;Arctic\, to the Antarctic&rdquo\; By Mark Roye &amp\; Nancy Krill. They sailed in the wake of the Pacific Northwest Maritime Fur Trade. Sailing their ketch Tamara from Hudson Strait to Alaska. The couple was awarded the Cruising Club of America&#39\;s Charles H. Vilas Prize for 2011 and the Royal Cruising Club Trophy for 2012.
LOCATION:Sequim High School Library 601 N. Sequim Avenue Sequim\, WA
UID:e.2672.8452
SEQUENCE:3
DTSTAMP:20260423T010131Z
URL:https://business.sequimchamber.com/events/details/2018-traveler-s-journal-02-08-2018-8452
END:VEVENT

END:VCALENDAR
