BEGIN:VCALENDAR
VERSION:2.0
PRODID:-//ChamberMaster//Event Calendar 2.0//EN
METHOD:PUBLISH
X-PUBLISHED-TTL:P3D
REFRESH-INTERVAL:P3D
CALSCALE:GREGORIAN
BEGIN:VEVENT
DTSTART:20180216T030000Z
DTEND:20180216T050000Z
X-MICROSOFT-CDO-ALLDAYEVENT:FALSE
SUMMARY:2018 Traveler’s Journal
DESCRIPTION:"Klee Wyck Journal: The Making of a Wilderness Retreat" By Lou McKee\, adventurer artist\, author and dreamer. Tells her story of paddling the waterways of the Pacific Northwest and by chance discovering an enchanting beach. Where the Klee Wyck Cabin was borne.
X-ALT-DESC;FMTTYPE=text/html:&ldquo\;Klee Wyck Journal: The Making of a Wilderness Retreat&rdquo\; By Lou McKee\, adventurer artist\, author and dreamer. Tells her story of paddling the waterways of the Pacific Northwest and by chance discovering an enchanting beach. Where the Klee Wyck Cabin was borne.
LOCATION:Sequim High School Library 601 N. Sequim Avenue Sequim\, WA
UID:e.2672.8464
SEQUENCE:3
DTSTAMP:20260424T100421Z
URL:https://business.sequimchamber.com/events/details/2018-traveler-s-journal-02-15-2018-8464
END:VEVENT

END:VCALENDAR
