BEGIN:VCALENDAR
VERSION:2.0
PRODID:-//ChamberMaster//Event Calendar 2.0//EN
METHOD:PUBLISH
X-PUBLISHED-TTL:P3D
REFRESH-INTERVAL:P3D
CALSCALE:GREGORIAN
BEGIN:VEVENT
DTSTART:20180223T030000Z
DTEND:20180223T050000Z
X-MICROSOFT-CDO-ALLDAYEVENT:FALSE
SUMMARY:2018 Traveler’s Journal
DESCRIPTION:"On Safari in Botswana and Tanzania" By Burt Jones & Maurine Shimlock\, award-winning photojournalists. Who usually document tropical marine life and remote dive sites. Will share a different kind of adventure\, with their love of adventure and photography we will take a trip to Botswana and Tanzania.
X-ALT-DESC;FMTTYPE=text/html:&ldquo\;On Safari in Botswana and Tanzania&rdquo\; By Burt Jones &amp\; Maurine Shimlock\, award-winning photojournalists. Who usually document tropical marine life and remote dive sites. Will share a different kind of adventure\, with their love of adventure and photography we will take a trip to Botswana and Tanzania.
LOCATION:Sequim High School Library 601 N. Sequim Avenue Sequim\, WA
UID:e.2672.8465
SEQUENCE:3
DTSTAMP:20260424T095120Z
URL:https://business.sequimchamber.com/events/details/2018-traveler-s-journal-02-22-2018-8465
END:VEVENT

END:VCALENDAR
