BEGIN:VCALENDAR
VERSION:2.0
PRODID:-//ChamberMaster//Event Calendar 2.0//EN
METHOD:PUBLISH
X-PUBLISHED-TTL:P3D
REFRESH-INTERVAL:P3D
CALSCALE:GREGORIAN
BEGIN:VEVENT
DTSTART:20241027T023000Z
DTEND:20241027T060000Z
X-MICROSOFT-CDO-ALLDAYEVENT:FALSE
SUMMARY:7 Cedars Presents - Halloween Party and Costume Contest
DESCRIPTION:7 Cedars Costume Contest - Please stop by the Blyn Bay Hotel Conference Room from 7:30pm-9:30pm for preliminary costume judging. Finals in Club SEVEN at 10:00pm.\n\nIndividual and Couples Costumes 1st\, $700. 2nd\, $500. 3rd\, $300. Best Group Costume $1000.\n\nLive music with The Nasty Habits\, 9:00pm. 21 +  No Cover.
X-ALT-DESC;FMTTYPE=text/html:7 Cedars Costume Contest - Please stop by the Blyn Bay Hotel Conference Room from 7:30pm-9:30pm for preliminary costume judging. Finals in Club SEVEN at 10:00pm.<br />\nIndividual and Couples Costumes 1st\, $700. 2nd\, $500. 3rd\, $300. Best Group Costume $1000.<br />\nLive music with The Nasty Habits\, 9:00pm. 21 +&nbsp\; No Cover.<br />\n<br />\n&nbsp\;
LOCATION:7 Cedars 270256 Highway 101 Sequim\, WA 98382 Costume Contest Preliminary Judging\, Blyn Bay Room\, 7:30-9:30pm. Finals in Club SEVEN at 10:00pm. The Nasty Habits in Club SEVEN at 9:00pm.
UID:e.2672.22169
SEQUENCE:3
DTSTAMP:20260421T222010Z
URL:https://business.sequimchamber.com/events/details/7-cedars-presents-halloween-party-and-costume-contest-22169
END:VEVENT

END:VCALENDAR
