BEGIN:VCALENDAR
VERSION:2.0
PRODID:-//ChamberMaster//Event Calendar 2.0//EN
METHOD:PUBLISH
X-PUBLISHED-TTL:P3D
REFRESH-INTERVAL:P3D
CALSCALE:GREGORIAN
BEGIN:VEVENT
DTSTART:20170710T171500Z
DTEND:20170710T210000Z
X-MICROSOFT-CDO-ALLDAYEVENT:FALSE
SUMMARY:A Gardening Fieldtrip
DESCRIPTION:The Sequim Garden Club monthly meeting will be a field trip to the Chimacum Woods\, A Rhododenndrom Nursery.  Meet to carpool 10:15 a.m. at the Sequim Prairie Garden Clubhouse. Park at the Clubhouse.  A restaurant lunch will commence after the tour (to be announced).  Free to the public.
X-ALT-DESC;FMTTYPE=text/html:The Sequim Garden Club monthly meeting will be a field trip to the Chimacum Woods\, A Rhododenndrom Nursery.&nbsp\; Meet to carpool 10:15 a.m. at the Sequim Prairie Garden Clubhouse. Park at the Clubhouse.&nbsp\; A restaurant lunch will commence after the tour (to be announced).&nbsp\; Free to the public.
LOCATION:2722 Thorndyke Rd.\, Port Ludlow OR Sequim Prairie Garden Clubhouse at 10:30 a.m. to carpool.
UID:e.2672.3712
SEQUENCE:3
DTSTAMP:20260422T085251Z
URL:https://business.sequimchamber.com/events/details/a-gardening-fieldtrip-3712
END:VEVENT

END:VCALENDAR
