BEGIN:VCALENDAR
VERSION:2.0
PRODID:-//ChamberMaster//Event Calendar 2.0//EN
METHOD:PUBLISH
X-PUBLISHED-TTL:P3D
REFRESH-INTERVAL:P3D
CALSCALE:GREGORIAN
BEGIN:VEVENT
DTSTART:20170927T200000Z
DTEND:20170927T220000Z
X-MICROSOFT-CDO-ALLDAYEVENT:FALSE
SUMMARY:A LEAN Primer - Intro to LEAN Thinking
DESCRIPTION:Education series highlighting agile solutions for any organization that wants to get things done faster\, better\, and at a lower cost. Presented by Jay Bakst\, LEAN Thinking Professional
X-ALT-DESC;FMTTYPE=text/html:Education series highlighting agile solutions for any organization that wants to get things done faster\, better\, and at a lower cost. Presented by Jay Bakst\, LEAN Thinking Professional&nbsp\;&nbsp\;&nbsp\;&nbsp\;&nbsp\;&nbsp\;&nbsp\;&nbsp\;&nbsp\;&nbsp\;&nbsp\;&nbsp\;&nbsp\;&nbsp\;&nbsp\;&nbsp\;
LOCATION:Guy Cole Center\, 202 N. Blake Ave
UID:e.2672.6310
SEQUENCE:3
DTSTAMP:20260422T140101Z
URL:https://business.sequimchamber.com/events/details/a-lean-primer-intro-to-lean-thinking-6310
END:VEVENT

END:VCALENDAR
