BEGIN:VCALENDAR
VERSION:2.0
PRODID:-//ChamberMaster//Event Calendar 2.0//EN
METHOD:PUBLISH
X-PUBLISHED-TTL:P3D
REFRESH-INTERVAL:P3D
CALSCALE:GREGORIAN
BEGIN:VEVENT
DTSTART:20191023T210000Z
DTEND:20191023T223000Z
X-MICROSOFT-CDO-ALLDAYEVENT:FALSE
SUMMARY:Alzheimer's Association Town Hall
DESCRIPTION:Learn more from the Alzheimer's Association about federal and state legislation and public policy related to Alzheimer's & dementia. Time for Q&A discussion at the end.
X-ALT-DESC;FMTTYPE=text/html:Learn more from the Alzheimer&#39\;s Association about federal and state legislation and public policy related to Alzheimer&#39\;s &amp\; dementia. Time for Q&amp\;A discussion at the end.
LOCATION:Shipley Center 921 E. Hammond St.\, Sequim\, WA 98382
UID:e.2672.13564
SEQUENCE:3
DTSTAMP:20260422T104511Z
URL:https://business.sequimchamber.com/events/details/alzheimer-s-association-town-hall-13564
END:VEVENT

END:VCALENDAR
