BEGIN:VCALENDAR
VERSION:2.0
PRODID:-//ChamberMaster//Event Calendar 2.0//EN
METHOD:PUBLISH
X-PUBLISHED-TTL:P3D
REFRESH-INTERVAL:P3D
CALSCALE:GREGORIAN
BEGIN:VEVENT
DTSTART:20260401T170000Z
DTEND:20260429T000000Z
X-MICROSOFT-CDO-ALLDAYEVENT:FALSE
SUMMARY:April Showers Bring May Flowers
DESCRIPTION:Painter Jean Glaser and ceramicist Mike Middlestead are teaming up to present their show "April Showers Bring May Flowers."  Their work will be presented in the front windows of Blue Whole Gallery throughout the month of April.\n\nTo Jean the show theme shouts "change is coming\," and indeed change has come to her work.  She has added new mediums in the form of pan pastels and soft chalk pastels.  "Parts of my work will never change: my interest in animals and my color palate."  Her goal is to infuse all her subjects with energy and spark through color\, texture\, and pattern.  She hopes to make viewers of her work smile.\n\nMike has just returned for a month-long trip to India where he studied new concepts and techniques in pottery. He described the experience as "amazing\, wonderful\, and exciting\," and challenging.  He is putting those new concepts and techniques to work creating a window of vases for those spring flowers. His presentation will include thrown\, handmade\, and slab vases using various glazing techniques as well as raku.   "One piece will be the largest I've ever created\," he states. \n\nJean and Mike are both pleased to share their new work with Sequim.  Join them on April 3rd from 5pm to 8pm during First Friday Art Walk. Blue Whole Gallery is always free and open to the public daily Monday through Saturday 10am to 5pm and Sundays 11am to 3pm. Additional information can be found at www.bluewholegallery.com.
X-ALT-DESC;FMTTYPE=text/html:<span style="font-size:18.0pt">Painter Jean Glaser and ceramicist Mike Middlestead are teaming up to present their show &ldquo\;April Showers Bring May Flowers.&rdquo\;&nbsp\; Their work will be presented in the front windows of Blue Whole Gallery throughout the month of April.</span><br />\n<span style="font-size:18.0pt">To Jean the show theme shouts &ldquo\;change is coming\,&rdquo\; and indeed change has come to her work.&nbsp\; She has added new mediums in the form of pan pastels and soft chalk pastels.&nbsp\; &ldquo\;Parts of my work will never change: my interest in animals and my color palate.&rdquo\;&nbsp\; Her goal is to infuse all her subjects with energy and spark through color\, texture\, and pattern.&nbsp\; She hopes to make viewers of her work smile.</span><br />\n<span style="font-size:18.0pt">Mike has just returned for a month-long trip to India where he studied new concepts and techniques in pottery. He described the experience as &ldquo\;amazing\, wonderful\, and exciting\,&rdquo\; and challenging.&nbsp\; He is putting those new concepts and techniques to work creating a window of vases for those spring flowers. His presentation will include thrown\, handmade\, and slab vases using various glazing techniques as well as raku.&nbsp\;&nbsp\; &ldquo\;One piece will be the largest I&rsquo\;ve ever created\,&rdquo\; he states. </span><br />\n<span style="font-size:18.0pt">Jean and Mike are both pleased to share their new work with Sequim.&nbsp\; Join them on April 3<sup>rd</sup> from 5pm to 8pm during First Friday Art Walk. Blue Whole Gallery is always free and open to the public daily Monday through Saturday 10am to 5pm and Sundays 11am to 3pm. Additional information can be found at </span><a href="http://www.bluewholegallery.com"><span style="font-size:18.0pt">www.bluewholegallery.com</span></a><span style="font-size:18.0pt">. </span><br />\n&nbsp\;
LOCATION:Blue Whole Gallery 129 W. Washington St. Sequim\, Wa 98382
UID:e.2672.25594
SEQUENCE:3
DTSTAMP:20260422T005439Z
URL:https://business.sequimchamber.com/events/details/april-showers-bring-may-flowers-25594
END:VEVENT

END:VCALENDAR
