BEGIN:VCALENDAR
VERSION:2.0
PRODID:-//ChamberMaster//Event Calendar 2.0//EN
METHOD:PUBLISH
X-PUBLISHED-TTL:P3D
REFRESH-INTERVAL:P3D
CALSCALE:GREGORIAN
BEGIN:VEVENT
DTSTART:20191013T180000Z
DTEND:20191125T010000Z
X-MICROSOFT-CDO-ALLDAYEVENT:FALSE
SUMMARY:Art Exhibition: Taking It In\, Steve Bels
DESCRIPTION:View the sculptures of exhibiting artist\, Steve Belz. His works of art\, "...express the beauty of nature and the tension created by our manipulation of the environment."
X-ALT-DESC;FMTTYPE=text/html:View the sculptures of exhibiting artist\, Steve Belz. His works of art\, &quot\;...express the beauty of nature and the tension created by our manipulation of the environment.&quot\;
LOCATION:Port Angeles Fine Arts Center 1203 E. Lauridsen Blvd. Port Angeles\, WA 98362
UID:e.2672.13536
SEQUENCE:3
DTSTAMP:20260422T104444Z
URL:https://business.sequimchamber.com/events/details/art-exhibition-taking-it-in-steve-bels-13536
END:VEVENT

END:VCALENDAR
