BEGIN:VCALENDAR
VERSION:2.0
PRODID:-//ChamberMaster//Event Calendar 2.0//EN
METHOD:PUBLISH
X-PUBLISHED-TTL:P3D
REFRESH-INTERVAL:P3D
CALSCALE:GREGORIAN
BEGIN:VEVENT
DTSTART:20170521T003000Z
DTEND:20170521T050000Z
X-MICROSOFT-CDO-ALLDAYEVENT:FALSE
SUMMARY:BASH Auction & Dinner
DESCRIPTION:Queen of Angels School 28th Annual BASH Auction & Dinner fundraiser
X-ALT-DESC;FMTTYPE=text/html:Queen of Angels School 28th Annual BASH Auction &amp\; Dinner fundraiser
LOCATION:Queen of Angels O'Donnell Hall 209 W. 11th. St. Port Angeles\, WA 98362
UID:e.2672.3877
SEQUENCE:3
DTSTAMP:20260422T121547Z
URL:https://business.sequimchamber.com/events/details/bash-auction-dinner-3877
END:VEVENT

END:VCALENDAR
