BEGIN:VCALENDAR
VERSION:2.0
PRODID:-//ChamberMaster//Event Calendar 2.0//EN
METHOD:PUBLISH
X-PUBLISHED-TTL:P3D
REFRESH-INTERVAL:P3D
CALSCALE:GREGORIAN
BEGIN:VEVENT
DTSTART:20191008T013000Z
DTEND:20191008T033000Z
X-MICROSOFT-CDO-ALLDAYEVENT:FALSE
SUMMARY:Beers for Building
DESCRIPTION:Join us for beers at Barhop Brewery\, 124 W. Railroad Ave. Port Angeles on October 7th\, 6:30pm~8:30pm. $20.00 per person includes a flight of beer\, light appetizers and a t-shirt. Sponsored by Thrivent Financial-David Jordan\, 100% of all donations go to Habitat Clallam making a positive impact on affordable housing in our community!
X-ALT-DESC;FMTTYPE=text/html:Join us for beers at Barhop Brewery\, 124 W. Railroad Ave. Port Angeles on October 7th\, 6:30pm~8:30pm. $20.00 per person includes a flight of beer\, light appetizers and a t-shirt. Sponsored by Thrivent Financial-David Jordan\, 100% of all donations go to Habitat Clallam making a positive impact on affordable housing in our community!
LOCATION:Barhop Brewery 124 W. Railroad Ave. Port Angeles
UID:e.2672.13556
SEQUENCE:3
DTSTAMP:20260422T104311Z
URL:https://business.sequimchamber.com/events/details/beers-for-building-10-07-2019-13556
END:VEVENT

END:VCALENDAR
