BEGIN:VCALENDAR
VERSION:2.0
PRODID:-//ChamberMaster//Event Calendar 2.0//EN
METHOD:PUBLISH
X-PUBLISHED-TTL:P3D
REFRESH-INTERVAL:P3D
CALSCALE:GREGORIAN
BEGIN:VEVENT
DTSTART:20191024T190000Z
DTEND:20191024T203000Z
X-MICROSOFT-CDO-ALLDAYEVENT:FALSE
SUMMARY:Better Balance with Tai Chi
DESCRIPTION:Do you ever worry about falling? Better balance could help prevent falls. This event is FREE. WEAR TENNIS SHOES! Sponsored by Soroptimist International of Sequim - Soroptimist Helping & Empowering
X-ALT-DESC;FMTTYPE=text/html:Do you ever worry about falling? Better balance could help prevent falls. This event is FREE. WEAR TENNIS SHOES! Sponsored by Soroptimist International of Sequim - Soroptimist Helping &amp\; Empowering
LOCATION:Trinity United Methodist Church 100 S. Blake Ave. Sequim\, WA
UID:e.2672.13534
SEQUENCE:3
DTSTAMP:20260422T105341Z
URL:https://business.sequimchamber.com/events/details/better-balance-with-tai-chi-13534
END:VEVENT

END:VCALENDAR
