BEGIN:VCALENDAR
VERSION:2.0
PRODID:-//ChamberMaster//Event Calendar 2.0//EN
METHOD:PUBLISH
X-PUBLISHED-TTL:P3D
REFRESH-INTERVAL:P3D
CALSCALE:GREGORIAN
BEGIN:VEVENT
DTSTART:20170506T020000Z
DTEND:20170506T040000Z
X-MICROSOFT-CDO-ALLDAYEVENT:FALSE
SUMMARY:Bill & Mark Volmut
DESCRIPTION:Bill & Mark break out some acoustic rock folk stylings for Crazy Daze Weekend!
X-ALT-DESC;FMTTYPE=text/html:Bill &amp\; Mark break out some acoustic rock folk stylings for Crazy Daze Weekend!
LOCATION:Wind Rose Cellars
UID:e.2672.4930
SEQUENCE:3
DTSTAMP:20260422T121709Z
URL:https://business.sequimchamber.com/events/details/bill-mark-volmut-4930
END:VEVENT

END:VCALENDAR
