BEGIN:VCALENDAR
VERSION:2.0
PRODID:-//ChamberMaster//Event Calendar 2.0//EN
METHOD:PUBLISH
X-PUBLISHED-TTL:P3D
REFRESH-INTERVAL:P3D
CALSCALE:GREGORIAN
BEGIN:VEVENT
DTSTART:20170512T200000Z
DTEND:20170513T010000Z
X-MICROSOFT-CDO-ALLDAYEVENT:FALSE
SUMMARY:Boys & Girls Club Golf Tournament
DESCRIPTION:Join us for our annual golf tournament at the Cedars at Dungeness. 7 Cedars Casino and our generous sponsors have joined forces to support our members and put on this fun scramble. It all kicks off with a delicious lunch in your cart and your chance to put for wine\, enter raffles and practice. While on the course you can participate in many fun games and take a shot at hole-in-one prizes. It's $100 to play\, put a foursome together\, invite your friends\, neighbors and colleagues out to tee one up for kids!
X-ALT-DESC;FMTTYPE=text/html:Join us for our annual golf tournament at the Cedars at Dungeness. 7 Cedars Casino and our generous sponsors have joined forces to support our members and put on this fun scramble. It all kicks off with a delicious lunch in your cart and your chance to put for wine\, enter raffles and practice. While on the course you can participate in many fun games and take a shot at hole-in-one prizes. It&#39\;s $100 to play\, put a foursome together\, invite your friends\, neighbors and colleagues out to tee one up for kids!
LOCATION:Cedars At Dungeness\, 1965 Woodcock Road
UID:e.2672.3851
SEQUENCE:3
DTSTAMP:20260422T122757Z
URL:https://business.sequimchamber.com/events/details/boys-girls-club-golf-tournament-3851
END:VEVENT

END:VCALENDAR
