BEGIN:VCALENDAR
VERSION:2.0
PRODID:-//ChamberMaster//Event Calendar 2.0//EN
METHOD:PUBLISH
X-PUBLISHED-TTL:P3D
REFRESH-INTERVAL:P3D
CALSCALE:GREGORIAN
BEGIN:VEVENT
DTSTART:20170514T063000Z
DTEND:20170514T070000Z
X-MICROSOFT-CDO-ALLDAYEVENT:FALSE
SUMMARY:Breweries on the Patio - The Emerald NW Grill
DESCRIPTION:Come help CELEBRATE the 122nd Sequim Irrigation Festival at Sequim's number one micro-brew watering hole on May 13th. Hosting 7 Seas and Iron Horse Breweries pouring some of your favorite brews. See you at The Emerald and as always\, please drink responsibly in our lovely Sunny Sequim where Water is Wealth!
X-ALT-DESC;FMTTYPE=text/html:Come help CELEBRATE the 122nd Sequim Irrigation Festival at Sequim&#39\;s number one micro-brew watering hole on May 13th. Hosting 7 Seas and Iron Horse Breweries pouring some of your favorite brews. See you at The Emerald and as always\, please drink responsibly in our lovely Sunny Sequim where Water is Wealth!
LOCATION:The Emerald Northwest Grill And Public House 179 West Washington St.
UID:e.2672.3891
SEQUENCE:3
DTSTAMP:20260422T122554Z
URL:https://business.sequimchamber.com/events/details/breweries-on-the-patio-the-emerald-nw-grill-3891
END:VEVENT

END:VCALENDAR
