BEGIN:VCALENDAR
VERSION:2.0
PRODID:-//ChamberMaster//Event Calendar 2.0//EN
METHOD:PUBLISH
X-PUBLISHED-TTL:P3D
REFRESH-INTERVAL:P3D
CALSCALE:GREGORIAN
BEGIN:VEVENT
DTSTART:20191023T000000Z
DTEND:20191023T023000Z
X-MICROSOFT-CDO-ALLDAYEVENT:FALSE
SUMMARY:Business Showcase - 13th Annual
DESCRIPTION:The Chamber of Commerce hosts this Expo each year so that members can showcase their businesses to each other\, to the greater business area and to the public! There will be tasty things to try\, delicious drinks to sample\, excellent services to find out about\, some games to play and a great opportunity to win some prizes! This year's theme is sure to delight you\, "Not Our First Rodeo!\n\nSaddle up for a wild ride\; Our businesses mean business!?
X-ALT-DESC;FMTTYPE=text/html:The Chamber of Commerce hosts this Expo each year so that members can showcase their businesses to each other\, to the greater business area and to the public! There will be tasty things to try\, delicious drinks to sample\, excellent services to find out about\, some games to play and a great opportunity to win some prizes! This year's theme is sure to delight you\, "Not Our First Rodeo!<br>\nSaddle up for a wild ride\; Our businesses mean business!?<br>\n<br>\n<br>\n&nbsp\;
LOCATION:Guy Cole Event Center 202 N. Blake Ave. at Carrie Blake Park Sequim\, WA
UID:e.2672.13169
SEQUENCE:3
DTSTAMP:20260422T104021Z
URL:https://business.sequimchamber.com/events/details/business-showcase-13th-annual-13169
END:VEVENT

END:VCALENDAR
