BEGIN:VCALENDAR
VERSION:2.0
PRODID:-//ChamberMaster//Event Calendar 2.0//EN
METHOD:PUBLISH
X-PUBLISHED-TTL:P3D
REFRESH-INTERVAL:P3D
CALSCALE:GREGORIAN
BEGIN:VEVENT
DTSTART:20191008T184500Z
DTEND:20191008T200000Z
X-MICROSOFT-CDO-ALLDAYEVENT:FALSE
SUMMARY:Chamber Luncheon - October 8
DESCRIPTION:Please join us for our bi-weekly Chamber Luncheon. \n\nProgram: Health Insurance Changes for 2020\n\nSpeaker: Phil Castell\, Castell Insurance\n\nSponsor:  Radio Pacific\, Inc.\n\nMenu: Jose's Famous Salsa Burritos
X-ALT-DESC;FMTTYPE=text/html:Please join us for our bi-weekly Chamber Luncheon.&nbsp\;<br />\nProgram: Health Insurance Changes for 2020<br />\nSpeaker: Phil Castell\, Castell Insurance<br />\nSponsor:&nbsp\; Radio Pacific\, Inc.<br />\nMenu: Jose&#39\;s Famous Salsa Burritos
LOCATION:Guy Cole Event Center 202 N. Blake Ave. @ Carrie Blake Park Sequim
UID:e.2672.7469
SEQUENCE:3
DTSTAMP:20260422T103730Z
URL:https://business.sequimchamber.com/events/details/chamber-luncheon-october-8-7469
END:VEVENT

END:VCALENDAR
