BEGIN:VCALENDAR
VERSION:2.0
PRODID:-//ChamberMaster//Event Calendar 2.0//EN
METHOD:PUBLISH
X-PUBLISHED-TTL:P3D
REFRESH-INTERVAL:P3D
CALSCALE:GREGORIAN
BEGIN:VEVENT
DTSTART:20190928T020000Z
DTEND:20190928T033000Z
X-MICROSOFT-CDO-ALLDAYEVENT:FALSE
SUMMARY:Change Your Life Faster With Visualization
DESCRIPTION:Awakening Natural Awareness presents guest speaker Cassandra Osterberg\, Intuitive Coach. She will be teaching us how to visualize creating more of what we want in our lives. This will be followed by a group hypnosis session lead by Jackie Boyle\, C.Ht.\, NLP and Reiki Master\, to integrate the knowledge. Cost is $10 RSVP
X-ALT-DESC;FMTTYPE=text/html:Awakening Natural Awareness presents guest speaker Cassandra Osterberg\, Intuitive Coach. She will be teaching us how to visualize creating more of what we want in our lives. This will be followed by a group hypnosis session lead by Jackie Boyle\, C.Ht.\, NLP and Reiki Master\, to integrate the knowledge. Cost is $10 RSVP
LOCATION:Sequim Public Library 630 N Sequim Ave Sequim\, WA 98382
UID:e.2672.13582
SEQUENCE:3
DTSTAMP:20260422T084905Z
URL:https://business.sequimchamber.com/events/details/change-your-life-faster-with-visualization-13582
END:VEVENT

END:VCALENDAR
