BEGIN:VCALENDAR
VERSION:2.0
PRODID:-//ChamberMaster//Event Calendar 2.0//EN
METHOD:PUBLISH
X-PUBLISHED-TTL:P3D
REFRESH-INTERVAL:P3D
CALSCALE:GREGORIAN
BEGIN:VEVENT
DTSTART:20170910T174500Z
DTEND:20170910T190000Z
X-MICROSOFT-CDO-ALLDAYEVENT:FALSE
SUMMARY:Christian Veterinary Mission Speaker
DESCRIPTION:Come hear about veterinary missions in Ethiopia. Speaker will be Dr. Fred Van Gorkom\, Africa Regional Director for Christian Veterinary Mission based in Seattle.
X-ALT-DESC;FMTTYPE=text/html:Come hear about veterinary missions in Ethiopia. Speaker will be Dr. Fred Van Gorkom\, Africa Regional Director for Christian Veterinary Mission based in Seattle.
LOCATION:First Baptist Church\, 1323 Sequim Dungeness Way\, Sequim\, WA 98382
UID:e.2672.5271
SEQUENCE:3
DTSTAMP:20260422T140327Z
URL:https://business.sequimchamber.com/events/details/christian-veterinary-mission-speaker-5271
END:VEVENT

END:VCALENDAR
