BEGIN:VCALENDAR
VERSION:2.0
PRODID:-//ChamberMaster//Event Calendar 2.0//EN
METHOD:PUBLISH
X-PUBLISHED-TTL:P3D
REFRESH-INTERVAL:P3D
CALSCALE:GREGORIAN
BEGIN:VEVENT
DTSTART;VALUE=DATE:20191001
DTEND;VALUE=DATE:20191002
TRANSP:TRANSPARENT
X-MICROSOFT-CDO-ALLDAYEVENT:TRUE
SUMMARY:Clallam County Reads
DESCRIPTION:The North Olympic Library System\, in collaboration with partners around Clallam County\, is excited to share a great read with the entire county-- The Soul of an Octopus by Sy Montgomery! Visit your nearest NOLS location to pick up a free copy (yours to keep or share) or borrow it in a favorite format. Free\, fun\, educational\, and community-building events will take place through October and November 2019\, based around the central theme of the octopus. From music and art\, to storytimes and book discussions\, there's something for everyone to enjoy\, including author talks from Sy Montgomery herself!
X-ALT-DESC;FMTTYPE=text/html:The North Olympic Library System\, in collaboration with partners around Clallam County\, is excited to share a great read with the entire county-- The Soul of an Octopus by Sy Montgomery! Visit your nearest NOLS location to pick up a free copy (yours to keep or share) or borrow it in a favorite format. Free\, fun\, educational\, and community-building events will take place through October and November 2019\, based around the central theme of the octopus. From music and art\, to storytimes and book discussions\, there&rsquo\;s something for everyone to enjoy\, including author talks from Sy Montgomery herself!
LOCATION:Sequim Branch Library 630 N. Sequim Ave
UID:e.2672.13551
SEQUENCE:3
DTSTAMP:20260422T103747Z
URL:https://business.sequimchamber.com/events/details/clallam-county-reads-13551
END:VEVENT

END:VCALENDAR
