BEGIN:VCALENDAR
VERSION:2.0
PRODID:-//ChamberMaster//Event Calendar 2.0//EN
METHOD:PUBLISH
X-PUBLISHED-TTL:P3D
REFRESH-INTERVAL:P3D
CALSCALE:GREGORIAN
BEGIN:VEVENT
DTSTART:20191029T230000Z
DTEND:20191030T000000Z
X-MICROSOFT-CDO-ALLDAYEVENT:FALSE
SUMMARY:Clallam County Reads Book Discussion
DESCRIPTION:Join friends and neighbors at a book discussion of "The Soul of an Octopus"! The North Olympic Library System\, in collaboration with partners around Clallam County\, is excited to share a great read with the entire county-- The Soul of an Octopus by Sy Montgomery! Visit your nearest NOLS location to pick up a free copy (yours to keep or share) or borrow it in a favorite format.
X-ALT-DESC;FMTTYPE=text/html:Join friends and neighbors at a book discussion of &quot\;The Soul of an Octopus&quot\;! The North Olympic Library System\, in collaboration with partners around Clallam County\, is excited to share a great read with the entire county-- The Soul of an Octopus by Sy Montgomery! Visit your nearest NOLS location to pick up a free copy (yours to keep or share) or borrow it in a favorite format.
LOCATION:Dungeness River Audubon Center
UID:e.2672.13555
SEQUENCE:3
DTSTAMP:20260422T104525Z
URL:https://business.sequimchamber.com/events/details/clallam-county-reads-book-discussion-10-29-2019-13555
END:VEVENT

END:VCALENDAR
