BEGIN:VCALENDAR
VERSION:2.0
PRODID:-//ChamberMaster//Event Calendar 2.0//EN
METHOD:PUBLISH
X-PUBLISHED-TTL:P3D
REFRESH-INTERVAL:P3D
CALSCALE:GREGORIAN
BEGIN:VEVENT
DTSTART:20170921T153000Z
DTEND:20170921T163000Z
X-MICROSOFT-CDO-ALLDAYEVENT:FALSE
SUMMARY:Coffee with the Mayor
DESCRIPTION:Meet Sequim Mayor Dennis Smith as the Coffee with the Mayor program continues in September. Public Works Director David Garlington will join the Mayor to meet with anyone who wants to chat\, ask questions\, express a concern\, or make a comment about the City or the community.
X-ALT-DESC;FMTTYPE=text/html:Meet Sequim Mayor Dennis Smith as the Coffee with the Mayor program continues in September. Public Works Director David Garlington will join the Mayor to meet with anyone who wants to chat\, ask questions\, express a concern\, or make a comment about the City or the community.
LOCATION:Oak Table Caf 292 West Bell Street
UID:e.2672.5278
SEQUENCE:3
DTSTAMP:20260422T140523Z
URL:https://business.sequimchamber.com/events/details/coffee-with-the-mayor-09-21-2017-5278
END:VEVENT

END:VCALENDAR
