BEGIN:VCALENDAR
VERSION:2.0
PRODID:-//ChamberMaster//Event Calendar 2.0//EN
METHOD:PUBLISH
X-PUBLISHED-TTL:P3D
REFRESH-INTERVAL:P3D
CALSCALE:GREGORIAN
BEGIN:VEVENT
DTSTART:20191024T153000Z
DTEND:20191024T163000Z
X-MICROSOFT-CDO-ALLDAYEVENT:FALSE
SUMMARY:Coffee with the Mayor
DESCRIPTION:Meet Mayor Dennis Smith for Coffee with the Mayor On Thursday\, October 24 at 8:30 a.m. at the Black Bear Diner\, 1471 East Washington Street. Administrative Services Director Sue Hagener will join the Mayor to meet with anyone who wants to chat\, ask questions\, express a concern\, or make comments about the City or the community.
X-ALT-DESC;FMTTYPE=text/html:Meet Mayor Dennis Smith for Coffee with the Mayor On Thursday\, October 24 at 8:30 a.m. at the Black Bear Diner\, 1471 East Washington Street. Administrative Services Director Sue Hagener will join the Mayor to meet with anyone who wants to chat\, ask questions\, express a concern\, or make comments about the City or the community.
LOCATION:Black Bear Diner\, 1471 East Washington Street
UID:e.2672.13583
SEQUENCE:3
DTSTAMP:20260422T104312Z
URL:https://business.sequimchamber.com/events/details/coffee-with-the-mayor-10-24-2019-13583
END:VEVENT

END:VCALENDAR
