BEGIN:VCALENDAR
VERSION:2.0
PRODID:-//ChamberMaster//Event Calendar 2.0//EN
METHOD:PUBLISH
X-PUBLISHED-TTL:P3D
REFRESH-INTERVAL:P3D
CALSCALE:GREGORIAN
BEGIN:VEVENT
DTSTART:20170505T140000Z
DTEND:20170505T150000Z
X-MICROSOFT-CDO-ALLDAYEVENT:FALSE
SUMMARY:Crazy Daze Breakfast
DESCRIPTION:Breakfast in spirit of Crazy Callen with awards given to best skits. Many come in costume and other just to enjoy those that do. We hope that you were able join us in starting off the Irrigation Festival with a bang at the Crazy Daze Breakfast and continue in costume and spirit for all the events of this first weekend of the festival. Date & Time: May 6th Doors open at 7:00am Location: Sunland Golf & Country Club Price: $10 (adults)\; $8 (kids) Tickets can be purchased at Cherry Creek Mortgage First Federal (both branches) Sound Community Bank Visitors Information Center
X-ALT-DESC;FMTTYPE=text/html:Breakfast in spirit of Crazy Callen with awards given to best skits. Many come in costume and other just to enjoy those that do. We hope that you were able join us in starting off the Irrigation Festival with a bang at the Crazy Daze Breakfast and continue in costume and spirit for all the events of this first weekend of the festival. Date &amp\; Time: May 6th Doors open at 7:00am Location: Sunland Golf &amp\; Country Club Price: $10 (adults)\; $8 (kids) Tickets can be purchased at Cherry Creek Mortgage First Federal (both branches) Sound Community Bank Visitors Information Center
LOCATION:Sunland Golf & Country Club
UID:e.2672.3367
SEQUENCE:3
DTSTAMP:20260422T121710Z
URL:https://business.sequimchamber.com/events/details/crazy-daze-breakfast-3367
END:VEVENT

END:VCALENDAR
