BEGIN:VCALENDAR
VERSION:2.0
PRODID:-//ChamberMaster//Event Calendar 2.0//EN
METHOD:PUBLISH
X-PUBLISHED-TTL:P3D
REFRESH-INTERVAL:P3D
CALSCALE:GREGORIAN
BEGIN:VEVENT
DTSTART:20170917T000000Z
DTEND:20170917T020000Z
X-MICROSOFT-CDO-ALLDAYEVENT:FALSE
SUMMARY:Create a "Chair"ity for Habitat for Humanity of Clallam County
DESCRIPTION:Habitat believes there is always "Room for One More"! Local artists have portrayed that sentiment on chairs that will be auctioned off at Olympic Cellars Winery to celebrate the belief that everyone deserves a decent place to live. You will be able to preview the chairs during the month of August at various store fronts though out Sequim and Port Angeles. Pick your favorite then join us for a fun night of bidding\, food and friends! Meet the artists and see who wins the Peoples Choice Awards.
X-ALT-DESC;FMTTYPE=text/html:Habitat believes there is always &quot\;Room for One More&quot\;! Local artists have portrayed that sentiment on chairs that will be auctioned off at Olympic Cellars Winery to celebrate the belief that everyone deserves a decent place to live. You will be able to preview the chairs during the month of August at various store fronts though out Sequim and Port Angeles. Pick your favorite then join us for a fun night of bidding\, food and friends! Meet the artists and see who wins the Peoples Choice Awards.
LOCATION:Olympic Cellars Winery
UID:e.2672.3919
SEQUENCE:3
DTSTAMP:20260422T141340Z
URL:https://business.sequimchamber.com/events/details/create-a-chair-ity-for-habitat-for-humanity-of-clallam-county-3919
END:VEVENT

END:VCALENDAR
