BEGIN:VCALENDAR
VERSION:2.0
PRODID:-//ChamberMaster//Event Calendar 2.0//EN
METHOD:PUBLISH
X-PUBLISHED-TTL:P3D
REFRESH-INTERVAL:P3D
CALSCALE:GREGORIAN
BEGIN:VEVENT
DTSTART;VALUE=DATE:20170501
DTEND;VALUE=DATE:20170502
TRANSP:TRANSPARENT
X-MICROSOFT-CDO-ALLDAYEVENT:TRUE
SUMMARY:Create for "Chair"ity
DESCRIPTION:Calling all artists!! Celebrate Habitat for Humanity and our belief that everyone deserves a decent place to live! Design a chair that conveys this year's theme\, "Room for One More". Chairs are provided by the Habitat Store through June 15th. Submissions are due by June 30th. The most creative chairs will win a prize! The chairs will be on display at various store fronts through out Sequim and Port Angeles during the month of August. The chairs will then be auctioned off at Olympic Cellars Winery on September 16th!
X-ALT-DESC;FMTTYPE=text/html:Calling all artists!! Celebrate Habitat for Humanity and our belief that everyone deserves a decent place to live! Design a chair that conveys this year&#39\;s theme\, &quot\;Room for One More&quot\;. Chairs are provided by the Habitat Store through June 15th. Submissions are due by June 30th. The most creative chairs will win a prize! The chairs will be on display at various store fronts through out Sequim and Port Angeles during the month of August. The chairs will then be auctioned off at Olympic Cellars Winery on September 16th!
LOCATION:
UID:e.2672.3920
SEQUENCE:3
DTSTAMP:20260422T121746Z
URL:https://business.sequimchamber.com/events/details/create-for-chair-ity-3920
END:VEVENT

END:VCALENDAR
