BEGIN:VCALENDAR
VERSION:2.0
PRODID:-//ChamberMaster//Event Calendar 2.0//EN
METHOD:PUBLISH
X-PUBLISHED-TTL:P3D
REFRESH-INTERVAL:P3D
CALSCALE:GREGORIAN
BEGIN:VEVENT
DTSTART:20191027T000000Z
DTEND:20191027T013000Z
X-MICROSOFT-CDO-ALLDAYEVENT:FALSE
SUMMARY:Dance Fitness Party
DESCRIPTION:Come dance and enjoy a workout -- you set the intensity -- with local Zumba instructors. Proceeds benefit the Port Angeles Symphony\, the nonprofit community orchestra presenting concerts in Sequim and Port Angeles. This dance fitness party's theme is "Monster Bash\," so Halloween costumes are encouraged but not required. Just wear something you can dance in! The music is from around the world and the moves are easy to learn. All ages are welcome.
X-ALT-DESC;FMTTYPE=text/html:Come dance and enjoy a workout -- you set the intensity -- with local Zumba instructors. Proceeds benefit the Port Angeles Symphony\, the nonprofit community orchestra presenting concerts in Sequim and Port Angeles. This dance fitness party&#39\;s theme is &quot\;Monster Bash\,&quot\; so Halloween costumes are encouraged but not required. Just wear something you can dance in! The music is from around the world and the moves are easy to learn. All ages are welcome.
LOCATION:Sequim YMCA\, 610 N. Fifth Ave.\, Sequim
UID:e.2672.13595
SEQUENCE:3
DTSTAMP:20260422T104556Z
URL:https://business.sequimchamber.com/events/details/dance-fitness-party-13595
END:VEVENT

END:VCALENDAR
