BEGIN:VCALENDAR
VERSION:2.0
PRODID:-//ChamberMaster//Event Calendar 2.0//EN
METHOD:PUBLISH
X-PUBLISHED-TTL:P3D
REFRESH-INTERVAL:P3D
CALSCALE:GREGORIAN
BEGIN:VEVENT
DTSTART:20191031T220000Z
DTEND:20191101T000000Z
X-MICROSOFT-CDO-ALLDAYEVENT:FALSE
SUMMARY:Downtown Trick Or Treat!
DESCRIPTION:Take your kiddos downtown in their costumes to trick or treat! Please make sure the kiddos are accompanied by an adult. Participating merchants will have an orange pumpkin displayed in their window.
X-ALT-DESC;FMTTYPE=text/html:Take your kiddos downtown in their costumes to trick or treat! Please make sure the kiddos are accompanied by an adult. Participating merchants will have an orange pumpkin displayed in their window.
LOCATION:Downtown Businesses! Look for the orange pumpkin!
UID:e.2672.13559
SEQUENCE:3
DTSTAMP:20260422T103835Z
URL:https://business.sequimchamber.com/events/details/downtown-trick-or-treat-13559
END:VEVENT

END:VCALENDAR
