BEGIN:VCALENDAR
VERSION:2.0
PRODID:-//ChamberMaster//Event Calendar 2.0//EN
METHOD:PUBLISH
X-PUBLISHED-TTL:P3D
REFRESH-INTERVAL:P3D
CALSCALE:GREGORIAN
BEGIN:VEVENT
DTSTART:20190622T160000Z
DTEND:20190622T180000Z
X-MICROSOFT-CDO-ALLDAYEVENT:FALSE
SUMMARY:Eat a Pancake - Save a Dog!
DESCRIPTION:Enjoy a delicious breakfast while supporting WAG! Welfare for Animals Guild is teaming up with Applebee's to raise money to help continuing efforts to rescue dogs in the Sequim area.  Your $10 ticket includes pancakes\, eggs\, bacon\, sausage and beverage with $5 going directly to WAG. Tickets available at wagsequimwa.com. Your tickets will be held in your name at Will Call on the day of the event at Applebee's Grill + Bar.
X-ALT-DESC;FMTTYPE=text/html:<p><strong>Enjoy a delicious breakfast while supporting WAG! </strong>Welfare for Animals Guild is teaming up with Applebee&#39\;s to raise money to help continuing efforts to rescue dogs in the Sequim area.&nbsp\;<strong>&nbsp\;</strong>Your&nbsp\;$10 ticket includes pancakes\, eggs\, bacon\, sausage and beverage with $5 going directly to WAG. <strong>Tickets available at wagsequimwa.com</strong>. Your tickets will be held in your name at Will Call on the day of the event at Applebee&rsquo\;s Grill + Bar.</p>\n
LOCATION:Applebee's Restaurant\, 130 River Road\, Sequim\, WA.
UID:e.2672.13205
SEQUENCE:3
DTSTAMP:20260421T155644Z
URL:https://business.sequimchamber.com/events/details/eat-a-pancake-save-a-dog-13205
END:VEVENT

END:VCALENDAR
