BEGIN:VCALENDAR
VERSION:2.0
PRODID:-//ChamberMaster//Event Calendar 2.0//EN
METHOD:PUBLISH
X-PUBLISHED-TTL:P3D
REFRESH-INTERVAL:P3D
CALSCALE:GREGORIAN
BEGIN:VEVENT
DTSTART:20250523T000000Z
DTEND:20250523T020000Z
X-MICROSOFT-CDO-ALLDAYEVENT:FALSE
SUMMARY:Ekphrastic Poetry Reading
DESCRIPTION:Ekphrastic Poetry Reading\n\nThursday\, May 22nd | 5:00PM-7:00PM\n\nFree! Open to the public.\n\nThe PAFAC and Olympic Peninsula Authors are proud to host an Ekphrastic Poetry Reading based on the artwork in "Hidden World: Jennifer Angus"- the current exhibition in the Esther Webster Gallery.\n\nEnjoy readings from poets who have found inspiration in the Victorian oddities and tapestry of insect patterns in the gallery. These poems will capture an exciting synergy between visual and verbal art!\n\nThis event is free and open to all\, donations appreciated.\n\nPlease RSVP to give us an idea of attendance numbers.\n\nRSVP at: https://pafac.org/rsvp-ekphrastic-poetry/
X-ALT-DESC;FMTTYPE=text/html:<p><strong style="color:rgb(0\, 0\, 0)">Ekphrastic Poetry Reading<br />\nThursday\, May 22nd | 5:00PM-7:00PM</strong></p>\n\n<p><span style="color:rgb(0\, 0\, 0)"><span style="color:rgb(8\, 8\, 9)\; font-family:arial\,sans-serif\; font-size:10pt">Free! Open to the public.</span></span></p>\n\n<p><span style="color:rgb(0\, 0\, 0)"><span style="color:rgb(8\, 8\, 9)\; font-family:arial\,sans-serif\; font-size:10pt">The PAFAC and Olympic Peninsula Authors are proud to host an Ekphrastic Poetry Reading based on the artwork in &ldquo\;Hidden World: Jennifer Angus&rdquo\;- the current exhibition in the Esther Webster Gallery.</span></span></p>\n\n<p><span style="color:rgb(0\, 0\, 0)"><span style="color:rgb(8\, 8\, 9)\; font-family:arial\,sans-serif\; font-size:10pt">Enjoy readings from poets who have found inspiration in the Victorian oddities and tapestry of insect patterns in the gallery. These poems will capture an exciting synergy between visual and verbal art!</span></span></p>\n\n<p><span style="color:rgb(0\, 0\, 0)"><span style="color:rgb(8\, 8\, 9)\; font-family:arial\,sans-serif\; font-size:10pt">This event is free and open to all\, donations appreciated.</span></span><br />\n<span style="color:rgb(8\, 8\, 9)\; font-family:arial\,sans-serif\; font-size:10pt">Please RSVP to give us an idea of attendance numbers.</span><br />\n<span style="color:rgb(8\, 8\, 9)\; font-family:arial\,sans-serif\; font-size:10pt">RSVP at: https://pafac.org/rsvp-ekphrastic-poetry/</span></p>\n\n<p>&nbsp\;</p>\n
LOCATION:PAFAC Courtyard 1203 E. Lauridsen Blvd. Port Angeles\, WA 98362
UID:e.2672.23530
SEQUENCE:3
DTSTAMP:20260419T163037Z
URL:https://business.sequimchamber.com/events/details/ekphrastic-poetry-reading-05-22-2025-23530
END:VEVENT

END:VCALENDAR
