BEGIN:VCALENDAR
VERSION:2.0
PRODID:-//ChamberMaster//Event Calendar 2.0//EN
METHOD:PUBLISH
X-PUBLISHED-TTL:P3D
REFRESH-INTERVAL:P3D
CALSCALE:GREGORIAN
BEGIN:VEVENT
DTSTART:20170913T213000Z
DTEND:20170913T230000Z
X-MICROSOFT-CDO-ALLDAYEVENT:FALSE
SUMMARY:Elder Law: Simple Steps Towards Peace Of Mind
DESCRIPTION:DVHWC  The Sequim Free Clinic's Working on Wellness WOW! presents Free Community Lectures the 2nd Wednesday of each month at 2:30pm. September 13th Elder Law: Simple Steps Towards Peace of Mind Speaker: D. Michael Hatch\, Attorney At Law
X-ALT-DESC;FMTTYPE=text/html:DVHWC &ndash\;The Sequim Free Clinic&rsquo\;s Working on Wellness WOW! presents Free Community Lectures the 2nd Wednesday of each month at 2:30pm. September 13th Elder Law: Simple Steps Towards Peace of Mind Speaker: D. Michael Hatch\, Attorney At Law
LOCATION:Trinity United Methodist Church 100 South Blake Street Sequim
UID:e.2672.5123
SEQUENCE:3
DTSTAMP:20260422T140743Z
URL:https://business.sequimchamber.com/events/details/elder-law-simple-steps-towards-peace-of-mind-5123
END:VEVENT

END:VCALENDAR
