BEGIN:VCALENDAR
VERSION:2.0
PRODID:-//ChamberMaster//Event Calendar 2.0//EN
METHOD:PUBLISH
X-PUBLISHED-TTL:P3D
REFRESH-INTERVAL:P3D
CALSCALE:GREGORIAN
BEGIN:VEVENT
DTSTART:20170526T230000Z
DTEND:20170527T001500Z
X-MICROSOFT-CDO-ALLDAYEVENT:FALSE
SUMMARY:Evening with an Author - Kate Riley Launching Vee’s Chariot: An End-of-Life Tale
DESCRIPTION:Author Kate Riley will read from her book Launching Vee's Chariot: An End-of-Life Tale\, and lead a participatory discussion on the end of life at 4pm on Friday\, May 26 at the Sequim Branch Library. Kate Riley is a certified death midwife\, minister\, educator\, advocate\, international story consultant\, and author. She embarked on her life purpose in the field of death and dying after completing her hospice training in 1988.
X-ALT-DESC;FMTTYPE=text/html:Author Kate Riley will read from her book Launching Vee&rsquo\;s Chariot: An End-of-Life Tale\, and lead a participatory discussion on the end of life at 4pm on Friday\, May 26 at the Sequim Branch Library. Kate Riley is a certified death midwife\, minister\, educator\, advocate\, international story consultant\, and author. She embarked on her life purpose in the field of death and dying after completing her hospice training in 1988.
LOCATION:Sequim Branch Library meeting room 630 N. Sequim Ave. Sequim WA 98382
UID:e.2672.4949
SEQUENCE:3
DTSTAMP:20260422T122757Z
URL:https://business.sequimchamber.com/events/details/evening-with-an-author-kate-riley-launching-vee-s-chariot-an-end-of-life-tale-4949
END:VEVENT

END:VCALENDAR
