BEGIN:VCALENDAR
VERSION:2.0
PRODID:-//ChamberMaster//Event Calendar 2.0//EN
METHOD:PUBLISH
X-PUBLISHED-TTL:P3D
REFRESH-INTERVAL:P3D
CALSCALE:GREGORIAN
BEGIN:VEVENT
DTSTART:20170919T010000Z
DTEND:20170919T020000Z
X-MICROSOFT-CDO-ALLDAYEVENT:FALSE
SUMMARY:Evening with an Author: Katy Bowman on Dynamic Aging
DESCRIPTION:Katy Bowman will discuss her book Dynamic Aging: Simple Exercises for Whole Body Mobility and lead participants in introductory exercises.
X-ALT-DESC;FMTTYPE=text/html:Katy Bowman will discuss her book Dynamic Aging: Simple Exercises for Whole Body Mobility and lead participants in introductory exercises.
LOCATION:Sequim Branch Library meeting room
UID:e.2672.5283
SEQUENCE:3
DTSTAMP:20260422T140327Z
URL:https://business.sequimchamber.com/events/details/evening-with-an-author-katy-bowman-on-dynamic-aging-5283
END:VEVENT

END:VCALENDAR
