BEGIN:VCALENDAR
VERSION:2.0
PRODID:-//ChamberMaster//Event Calendar 2.0//EN
METHOD:PUBLISH
X-PUBLISHED-TTL:P3D
REFRESH-INTERVAL:P3D
CALSCALE:GREGORIAN
BEGIN:VEVENT
DTSTART:20191029T230000Z
DTEND:20191030T030000Z
X-MICROSOFT-CDO-ALLDAYEVENT:FALSE
SUMMARY:Feasting For Felines
DESCRIPTION:Dining Event to benefit the rescues of Peninsula Friends Of Animals and celebrate National Cat Day. Dinner reservations recommended and appreciated. Rave reviews from diners. Please call 360-457-8033 A generous percentage of the evening's dining proceeds will be donated to assist with the care expenses of PFOA's rescues
X-ALT-DESC;FMTTYPE=text/html:Dining Event to benefit the rescues of Peninsula Friends Of Animals and celebrate National Cat Day. Dinner reservations recommended and appreciated. Rave reviews from diners. Please call 360-457-8033 A generous percentage of the evening&#39\;s dining proceeds will be donated to assist with the care expenses of PFOA&#39\;s rescues
LOCATION:DuPuis Restaurant 256861 Hwy. 101\, Port Angeles
UID:e.2672.13616
SEQUENCE:3
DTSTAMP:20260422T104444Z
URL:https://business.sequimchamber.com/events/details/feasting-for-felines-10-29-2019-13616
END:VEVENT

END:VCALENDAR
