BEGIN:VCALENDAR
VERSION:2.0
PRODID:-//ChamberMaster//Event Calendar 2.0//EN
METHOD:PUBLISH
X-PUBLISHED-TTL:P3D
REFRESH-INTERVAL:P3D
CALSCALE:GREGORIAN
BEGIN:VEVENT
DTSTART:20231217T030000Z
DTEND:20231217T043000Z
X-MICROSOFT-CDO-ALLDAYEVENT:FALSE
SUMMARY:Field Hall Presents: “Linus and Juicy” Jose Gonzales Trio perform Vince Guaraldi's "A Charlie Brown Christmas"
DESCRIPTION:"Linus and Juicy" is a holiday classic! The Jose 'Juicy' Gonzales Trio performs the fresh sounds of Vince Guaraldi's holiday classic "A Charlie Brown Christmas" - played live in its entirety. Tickets: $15 - $60 Adult\, $10 Student/Youth Rooted in jazz\, fueled by the blues\, marinated in funk\, pianist/singer Jose 'Juicy' Gonzales delivers a rich\, dynamic experience. Juicy has performed in Germany\, New York\, California\, Seattle\, and Oregon and has been featured on the radio including BBC Radio 2's The Swing & Big Band Show with Clare Teal. His fresh sound is informed by classic jazz of the 50's and 60's including Monk\, Oscar Peterson\, Bill Evans\, and Miles Davis\, along with pop icons Elton John\, Beatles\, Prince and more. His trio created a holiday hit\, playing Vince Guaraldi's "A Charlie Brown Christmas" live\, with Juicy telling stories about the making of the special. For the past 11 years the show has sold out one of Seattle's biggest venues. Jose Gonzales (piano\, vocals) Michael Marcus (bass) Matt Jorgensen (drums)
X-ALT-DESC;FMTTYPE=text/html:&quot\;Linus and Juicy&quot\; is a holiday classic! The Jose &#39\;Juicy&#39\; Gonzales Trio performs the fresh sounds of Vince Guaraldi&#39\;s holiday classic &quot\;A Charlie Brown Christmas&quot\; - played live in its entirety. Tickets: $15 - $60 Adult\, $10 Student/Youth Rooted in jazz\, fueled by the blues\, marinated in funk\, pianist/singer Jose &#39\;Juicy&#39\; Gonzales delivers a rich\, dynamic experience. Juicy has performed in Germany\, New York\, California\, Seattle\, and Oregon and has been featured on the radio including BBC Radio 2&rsquo\;s The Swing &amp\; Big Band Show with Clare Teal. His fresh sound is informed by classic jazz of the 50&rsquo\;s and 60&rsquo\;s including Monk\, Oscar Peterson\, Bill Evans\, and Miles Davis\, along with pop icons Elton John\, Beatles\, Prince and more. His trio created a holiday hit\, playing Vince Guaraldi&rsquo\;s &quot\;A Charlie Brown Christmas&quot\; live\, with Juicy telling stories about the making of the special. For the past 11 years the show has sold out one of Seattle&rsquo\;s biggest venues. Jose Gonzales (piano\, vocals) Michael Marcus (bass) Matt Jorgensen (drums)
LOCATION:Field Arts & Event Hall
UID:e.2672.21569
SEQUENCE:3
DTSTAMP:20260425T110251Z
URL:https://business.sequimchamber.com/events/details/field-hall-presents-linus-and-juicy-jose-gonzales-trio-perform-vince-guaraldi-s-a-charlie-brown-christmas-12-16-2023-21569
END:VEVENT

END:VCALENDAR
