BEGIN:VCALENDAR
VERSION:2.0
PRODID:-//ChamberMaster//Event Calendar 2.0//EN
METHOD:PUBLISH
X-PUBLISHED-TTL:P3D
REFRESH-INTERVAL:P3D
CALSCALE:GREGORIAN
BEGIN:VEVENT
DTSTART:20250505T020000Z
DTEND:20250505T040000Z
X-MICROSOFT-CDO-ALLDAYEVENT:FALSE
SUMMARY:Films @ Field Hall: Star Wars: A New Hope
DESCRIPTION:May the 4th be with you! Celebrate Star Wars day with a screening of the very first film of the saga released in theaters: Star Wars: A New Hope (1977). Costumes and theatrical dress highly encouraged! Presented in partnership with Anime Kat. The Imperial Forces -- under orders from cruel Darth Vader (David Prowse) -- hold Princess Leia (Carrie Fisher) hostage\, in their efforts to quell the rebellion against the Galactic Empire. Luke Skywalker (Mark Hamill) and Han Solo (Harrison Ford)\, captain of the Millennium Falcon\, work together with the companionable droid duo R2-D2 (Kenny Baker) and C-3PO (Anthony Daniels) to rescue the beautiful princess\, help the Rebel Alliance\, and restore freedom and justice to the Galaxy. Rating PG\; runtime 2 hours 1 minute. Field Arts & Events Hall does not generally provide advisories about subject matter or potentially triggering content in films\, as sensitivities vary from person to person. In addition to the synopses\, trailers and other links on our website\, further information about content and age-appropriateness for specific films can be found on Common Sense Media\, IMDb and DoesTheDogDie.com as well as through general internet searches.
X-ALT-DESC;FMTTYPE=text/html:May the 4th be with you! Celebrate Star Wars day with a screening of the very first film of the saga released in theaters: Star Wars: A New Hope (1977). Costumes and theatrical dress highly encouraged! Presented in partnership with Anime Kat. The Imperial Forces -- under orders from cruel Darth Vader (David Prowse) -- hold Princess Leia (Carrie Fisher) hostage\, in their efforts to quell the rebellion against the Galactic Empire. Luke Skywalker (Mark Hamill) and Han Solo (Harrison Ford)\, captain of the Millennium Falcon\, work together with the companionable droid duo R2-D2 (Kenny Baker) and C-3PO (Anthony Daniels) to rescue the beautiful princess\, help the Rebel Alliance\, and restore freedom and justice to the Galaxy. Rating PG\; runtime 2 hours 1 minute. Field Arts &amp\; Events Hall does not generally provide advisories about subject matter or potentially triggering content in films\, as sensitivities vary from person to person. In addition to the synopses\, trailers and other links on our website\, further information about content and age-appropriateness for specific films can be found on Common Sense Media\, IMDb and DoesTheDogDie.com as well as through general internet searches.
LOCATION:Field Arts & Events Hall
UID:e.2672.23424
SEQUENCE:3
DTSTAMP:20260419T150424Z
URL:https://business.sequimchamber.com/events/details/films-field-hall-star-wars-a-new-hope-23424
END:VEVENT

END:VCALENDAR
