BEGIN:VCALENDAR
VERSION:2.0
PRODID:-//ChamberMaster//Event Calendar 2.0//EN
METHOD:PUBLISH
X-PUBLISHED-TTL:P3D
REFRESH-INTERVAL:P3D
CALSCALE:GREGORIAN
BEGIN:VEVENT
DTSTART:20180217T200000Z
DTEND:20180217T200000Z
X-MICROSOFT-CDO-ALLDAYEVENT:FALSE
SUMMARY:Focus On Series – Woodpeckers
DESCRIPTION:Join us in our brand new series where we will unlock the secrets of different bird families. Each class will explore the unique adaptations\, habitats\, and life-history of some of our favorite feathered friends. *This is a family friendly series! Where: Dungeness River Audubon Center When: February 17th   Woodpeckers March 17th   Ducks April 21st   Hummingbirds May 19th   Swallows Time: 10a.m.   12p.m. Cost: $10 (select classes include a field trip) Registration not required. For more information: 360-681-4076 / rceducation@olympus.net
X-ALT-DESC;FMTTYPE=text/html:Join us in our brand new series where we will unlock the secrets of different bird families. Each class will explore the unique adaptations\, habitats\, and life-history of some of our favorite feathered friends. *This is a family friendly series! Where: Dungeness River Audubon Center When: February 17th &ndash\; Woodpeckers March 17th &ndash\; Ducks April 21st &ndash\; Hummingbirds May 19th &ndash\; Swallows Time: 10a.m. &ndash\; 12p.m. Cost: $10 (select classes include a field trip) Registration not required. For more information: 360-681-4076 / rceducation@olympus.net
LOCATION:Dungeness River Audubon Center 2151 W Hendrickson Rd. Sequim WA 98382
UID:e.2672.8692
SEQUENCE:3
DTSTAMP:20260424T095308Z
URL:https://business.sequimchamber.com/events/details/focus-on-series-woodpeckers-8692
END:VEVENT

END:VCALENDAR
