BEGIN:VCALENDAR
VERSION:2.0
PRODID:-//ChamberMaster//Event Calendar 2.0//EN
METHOD:PUBLISH
X-PUBLISHED-TTL:P3D
REFRESH-INTERVAL:P3D
CALSCALE:GREGORIAN
BEGIN:VEVENT
DTSTART:20200130T210000Z
DTEND:20200130T230000Z
X-MICROSOFT-CDO-ALLDAYEVENT:FALSE
SUMMARY:FREE Eduacational Workshop
DESCRIPTION:Free Educational Presentation on "TIPS ON STAYING SHARP AND ACTIVE (BRAIN HEALTH AND QUALITY OF LIFE IN AGING) Presenter: Dr. Paul Cunningham - Chief Medical Officer Jamestown Clinic. Sponsored by: DUNGENESS COURTE MEMORY CARE
X-ALT-DESC;FMTTYPE=text/html:Free Educational Presentation on &quot\;TIPS ON STAYING SHARP AND ACTIVE (BRAIN HEALTH AND QUALITY OF LIFE IN AGING) Presenter: Dr. Paul Cunningham - Chief Medical Officer Jamestown Clinic. Sponsored by: DUNGENESS COURTE MEMORY CARE
LOCATION:"NAUTICAL ROOM" AT DUNGENESS COURTE MEMORY CARE 651 GARRY OAK DR. SEQUIM\, WA 98382
UID:e.2672.13959
SEQUENCE:3
DTSTAMP:20260421T083007Z
URL:https://business.sequimchamber.com/events/details/free-eduacational-workshop-01-30-2020-13959
END:VEVENT

END:VCALENDAR
