BEGIN:VCALENDAR
VERSION:2.0
PRODID:-//ChamberMaster//Event Calendar 2.0//EN
METHOD:PUBLISH
X-PUBLISHED-TTL:P3D
REFRESH-INTERVAL:P3D
CALSCALE:GREGORIAN
BEGIN:VEVENT
DTSTART:20191009T213000Z
DTEND:20191009T223000Z
X-MICROSOFT-CDO-ALLDAYEVENT:FALSE
SUMMARY:Free Working on Wellness (WOW!) Forum
DESCRIPTION:"Improving Incontinence" Loraine Lovejoy-Evans MPT\, DPT\, CLT-Foeldi
X-ALT-DESC;FMTTYPE=text/html:&quot\;Improving Incontinence&quot\; Loraine Lovejoy-Evans MPT\, DPT\, CLT-Foeldi
LOCATION:Trinity United Methodist Church 100 S. Blake St. Sequim\, WA 98382
UID:e.2672.13226
SEQUENCE:3
DTSTAMP:20260422T105505Z
URL:https://business.sequimchamber.com/events/details/free-working-on-wellness-wow-forum-10-09-2019-13226
END:VEVENT

END:VCALENDAR
