BEGIN:VCALENDAR
VERSION:2.0
PRODID:-//ChamberMaster//Event Calendar 2.0//EN
METHOD:PUBLISH
X-PUBLISHED-TTL:P3D
REFRESH-INTERVAL:P3D
CALSCALE:GREGORIAN
BEGIN:VEVENT
DTSTART:20170520T173000Z
DTEND:20170520T183000Z
X-MICROSOFT-CDO-ALLDAYEVENT:FALSE
SUMMARY:Gardening Talk at Nash's
DESCRIPTION:"To Spray or Not to Spray" Insects are part of gardening. Some we love\, others become issues for us. Infestations don't come often but when they do\, gardeners can get pretty concerned and excited. Larsen will discuss some of the considerations in spraying and help gardeners decide when to spray for pests and when not to. Pam Larsen has lived here for 19 years. She has always grown gardens organically\, but has been able to grow more\, study\, and learn more about it since moving to Sequim. Shortly after arriving\, she created the "Rainshadow Planting Guide" to help gardeners know when the best planting times are in Sequim's unique climate. In 2006 she started Sequim Organic Gardeners and in 2007 was one of the founders of the Community Organic Gardens of Sequim. She has been teaching organic gardening classes ever since. She also engages in plant research in order to translate science into terms gardeners can understand in order to grow better organically.
X-ALT-DESC;FMTTYPE=text/html:&quot\;To Spray or Not to Spray&quot\; Insects are part of gardening. Some we love\, others become issues for us. Infestations don&#39\;t come often but when they do\, gardeners can get pretty concerned and excited. Larsen will discuss some of the considerations in spraying and help gardeners decide when to spray for pests and when not to. Pam Larsen has lived here for 19 years. She has always grown gardens organically\, but has been able to grow more\, study\, and learn more about it since moving to Sequim. Shortly after arriving\, she created the &ldquo\;Rainshadow Planting Guide&rdquo\; to help gardeners know when the best planting times are in Sequim&rsquo\;s unique climate. In 2006 she started Sequim Organic Gardeners and in 2007 was one of the founders of the Community Organic Gardens of Sequim. She has been teaching organic gardening classes ever since. She also engages in plant research in order to translate science into terms gardeners can understand in order to grow better organically.
LOCATION:Nash's Farm Store\, 4681 Sequim-Dungeness Way\, Sequim
UID:e.2672.4945
SEQUENCE:3
DTSTAMP:20260422T140327Z
URL:https://business.sequimchamber.com/events/details/gardening-talk-at-nash-s-4945
END:VEVENT

END:VCALENDAR
