BEGIN:VCALENDAR
VERSION:2.0
PRODID:-//ChamberMaster//Event Calendar 2.0//EN
METHOD:PUBLISH
X-PUBLISHED-TTL:P3D
REFRESH-INTERVAL:P3D
CALSCALE:GREGORIAN
BEGIN:VEVENT
DTSTART:20240907T210000Z
DTEND:20240907T230000Z
X-MICROSOFT-CDO-ALLDAYEVENT:FALSE
SUMMARY:Gospel Music Hall of Fame artist concert at the Park
DESCRIPTION:Gospel Music Hall of Fame and Dove Award Winner Matthew Ward is coming to the Sequim Bandshell in Carrie Blake Park next to the beautiful botanical gardens September 7th at 2:00pm. This is a free community event. One more opportunity to enjoy another concert in the Park!
X-ALT-DESC;FMTTYPE=text/html:Gospel Music Hall of Fame and Dove Award Winner Matthew Ward is coming to the Sequim Bandshell in Carrie Blake Park next to the beautiful botanical gardens September 7th at 2:00pm. This is a free community event. One more opportunity to enjoy another concert in the Park!
LOCATION:James Center Band Shell at Carrie Blake Park in Sequim next to the botanical gardens.
UID:e.2672.22118
SEQUENCE:3
DTSTAMP:20260421T045339Z
URL:https://business.sequimchamber.com/events/details/gospel-music-hall-of-fame-artist-concert-at-the-park-22118
END:VEVENT

END:VCALENDAR
