BEGIN:VCALENDAR
VERSION:2.0
PRODID:-//ChamberMaster//Event Calendar 2.0//EN
METHOD:PUBLISH
X-PUBLISHED-TTL:P3D
REFRESH-INTERVAL:P3D
CALSCALE:GREGORIAN
BEGIN:VEVENT
DTSTART:20170501T230000Z
DTEND:20170502T003000Z
X-MICROSOFT-CDO-ALLDAYEVENT:FALSE
SUMMARY:Greywolf Kindergarten Registration
DESCRIPTION:Parents can register their children for fall 2017 kindergarten.  Your child must be five years old by Aug 31 2017 in order to attend kindergarten. The elementary school your child will attend is dictated by where you reside.
X-ALT-DESC;FMTTYPE=text/html:Parents can register their children for fall 2017 kindergarten.  Your child must be five years old by Aug 31 2017 in order to attend kindergarten. The elementary school your child will attend is dictated by where you reside.  
LOCATION:Greywolf Elementary School\, 171 Carlsborg Rd
UID:e.2672.3773
SEQUENCE:3
DTSTAMP:20260422T121843Z
URL:https://business.sequimchamber.com/events/details/greywolf-kindergarten-registration-3773
END:VEVENT

END:VCALENDAR
