BEGIN:VCALENDAR
VERSION:2.0
PRODID:-//ChamberMaster//Event Calendar 2.0//EN
METHOD:PUBLISH
X-PUBLISHED-TTL:P3D
REFRESH-INTERVAL:P3D
CALSCALE:GREGORIAN
BEGIN:VEVENT
DTSTART:20220929T230000Z
DTEND:20220930T010000Z
X-MICROSOFT-CDO-ALLDAYEVENT:FALSE
SUMMARY:Groundswell/Business
DESCRIPTION:Groundswell is a 4-week business incubator for BIPOC and LGBTQ2IA+ entrepreneurs on the North Olympic Peninsula. We pair our proven entrepreneurial curriculum with exposure to specialized resources and community partners. We are providing resources that address the most common obstacles new entrepreneurs face/addressing inequities: the current situation.
X-ALT-DESC;FMTTYPE=text/html:Groundswell is a 4-week business incubator for BIPOC and LGBTQ2IA+ entrepreneurs on the North Olympic Peninsula. We pair our proven entrepreneurial curriculum with exposure to specialized resources and community partners. We are providing resources that address the most common obstacles new entrepreneurs face/addressing inequities: the current situation.
LOCATION:Class will take virtually through ZOOM.
UID:e.2672.19643
SEQUENCE:3
DTSTAMP:20260420T171438Z
URL:https://business.sequimchamber.com/events/details/groundswell-business-09-29-2022-19643
END:VEVENT

END:VCALENDAR
