BEGIN:VCALENDAR
VERSION:2.0
PRODID:-//ChamberMaster//Event Calendar 2.0//EN
METHOD:PUBLISH
X-PUBLISHED-TTL:P3D
REFRESH-INTERVAL:P3D
CALSCALE:GREGORIAN
BEGIN:VEVENT
DTSTART:20170516T190000Z
DTEND:20170516T200000Z
X-MICROSOFT-CDO-ALLDAYEVENT:FALSE
SUMMARY:Guy Cole Ribbon Cutting
DESCRIPTION:Join the City of Sequim as we cut the ribbon on phase one of the Guy Cole Convention Center remodel project. Celebrate the reopening of the facility and learn more about plans for the next phase of improvements.
X-ALT-DESC;FMTTYPE=text/html:Join the City of Sequim as we cut the ribbon on phase one of the Guy Cole Convention Center remodel project. Celebrate the reopening of the facility and learn more about plans for the next phase of improvements.
LOCATION:Guy Cole Convention Center at Carrie Blake Community Park
UID:e.2672.3903
SEQUENCE:3
DTSTAMP:20260422T122041Z
URL:https://business.sequimchamber.com/events/details/guy-cole-ribbon-cutting-3903
END:VEVENT

END:VCALENDAR
