BEGIN:VCALENDAR
VERSION:2.0
PRODID:-//ChamberMaster//Event Calendar 2.0//EN
METHOD:PUBLISH
X-PUBLISHED-TTL:P3D
REFRESH-INTERVAL:P3D
CALSCALE:GREGORIAN
BEGIN:VEVENT
DTSTART:20220107T180000Z
DTEND:20220107T190000Z
X-MICROSOFT-CDO-ALLDAYEVENT:FALSE
SUMMARY:Habitat for Humanity Homeowner Application Workshop-Zoom Meeting
DESCRIPTION:Habitat Clallam is accepting applications for homes to be built at our Maloney Heights subdivision located in West Port Angeles. Come to this one hour workshop to hear an overview of Habitat's Homeownership program and requirements\, the application and selection process\, and USDA loan information. Pre-registration is required.
X-ALT-DESC;FMTTYPE=text/html:Habitat Clallam is accepting applications for homes to be built at our Maloney Heights subdivision located in West Port Angeles. Come to this one hour workshop to hear an overview of Habitat&#39\;s Homeownership program and requirements\, the application and selection process\, and USDA loan information. Pre-registration is required.
LOCATION:Zoom link provided after registration
UID:e.2672.18818
SEQUENCE:3
DTSTAMP:20260420T182639Z
URL:https://business.sequimchamber.com/events/details/habitat-for-humanity-homeowner-application-workshop-zoom-meeting-01-07-2022-18818
END:VEVENT

END:VCALENDAR
