BEGIN:VCALENDAR
VERSION:2.0
PRODID:-//ChamberMaster//Event Calendar 2.0//EN
METHOD:PUBLISH
X-PUBLISHED-TTL:P3D
REFRESH-INTERVAL:P3D
CALSCALE:GREGORIAN
BEGIN:VEVENT
DTSTART:20250530T180000Z
DTEND:20250531T000000Z
X-MICROSOFT-CDO-ALLDAYEVENT:FALSE
SUMMARY:"Hidden World: Jennifer Angus" Exhibition
DESCRIPTION:Hidden World: Jennifer Angus\n\nOn exhibit from April 25th- July 6th\, 2025\n\nOpening Reception: Friday\, April 25th | 5-7pm\n\nHidden World: Jennifer Angus is an immersive exhibition by Madison-based artist Jennifer Angus that transforms the Port Angeles Fine Arts Center into a living tapestry of nature\, using preserved insect specimens to create intricate patterns that dance across the walls. Through her art\, she reveals both the delicate beauty and the fragility of our ecosystem\, offering a thoughtful reflection on our relations with the natural world.\n\n \n\nFeatured artist: Jennifer Angus \n\nExhibit Sponsors: City of Port Angeles\n\nGallery hours: Thursdays- Sundays\, 11AM- 5PM\n\nLearn more at: pafac.org/gallery-exhibits/hiddenworld/
X-ALT-DESC;FMTTYPE=text/html:<p><em>Hidden World: Jennifer Angus</em><br />\nOn exhibit from April 25th- July 6th\, 2025</p>\n\n<p><strong>Opening Reception</strong>: Friday\, April 25th | 5-7pm</p>\n\n<div><em>Hidden World: Jennifer Angus</em>&nbsp\;is an immersive exhibition by Madison-based artist Jennifer Angus that transforms the Port Angeles Fine Arts Center into a living tapestry of nature\, using preserved insect specimens to create intricate patterns that dance across the walls. Through her art\, she reveals both the delicate beauty and the fragility of our ecosystem\, offering a thoughtful reflection on our relations with the natural world.<br />\n&nbsp\;</div>\n\n<div><strong>Featured artist: </strong><a href="https://www.jenniferangus.com/">Jennifer Angus&nbsp\;</a><br />\n<strong>Exhibit Sponsors</strong>: City of Port Angeles</div>\n\n<p>Gallery hours: Thursdays- Sundays\, 11AM- 5PM<br />\n<span style="color:rgb(0\, 0\, 0)">Learn more at:&nbsp\;</span><a href="https://pafac.org/gallery-exhibits/hiddenworld/">pafac.org/gallery-exhibits/hiddenworld/</a></p>\n
LOCATION:Port Angeles Fine Arts Center 1203 E. Lauridsen Blvd. Port Angeles\, WA 98362
UID:e.2672.23365
SEQUENCE:3
DTSTAMP:20260419T164503Z
URL:https://business.sequimchamber.com/events/details/hidden-world-jennifer-angus-exhibition-05-30-2025-23365
END:VEVENT

END:VCALENDAR
