BEGIN:VCALENDAR
VERSION:2.0
PRODID:-//ChamberMaster//Event Calendar 2.0//EN
METHOD:PUBLISH
X-PUBLISHED-TTL:P3D
REFRESH-INTERVAL:P3D
CALSCALE:GREGORIAN
BEGIN:VEVENT
DTSTART:20170527T170000Z
DTEND:20170529T000000Z
X-MICROSOFT-CDO-ALLDAYEVENT:FALSE
SUMMARY:Hood Canal Shrimpfest
DESCRIPTION:Brinnon ShrimpFest is a Memorial Weekend festival located on the Hood Canal in Brinnon\, WA. This community event is a celebration of Hood Canal Spot Shrimp and other local seafood. It features belt sander races\, arts and craft booths\, live music\, kids activities\, delicious food\, great fun and shrimp! Limited quantities of Hood Canal Shrimp for sale! Bring along your favorite decorated belt sander to enter the races that will be held at 11AM and 3PM. The tides are usually low enough during this weekend for easy harvest of clams and oysters on the public beaches near the festival (license required) and the weather is traditionally good during this holiday weekend. This is great family fun! Hours: Sat 10-6\, Sun 10-5 Proceeds from ShrimpFest will be donated to community projects.
X-ALT-DESC;FMTTYPE=text/html:Brinnon ShrimpFest is a Memorial Weekend festival located on the Hood Canal in Brinnon\, WA. This community event is a celebration of Hood Canal Spot Shrimp and other local seafood. It features belt sander races\, arts and craft booths\, live music\, kids activities\, delicious food\, great fun and shrimp! Limited quantities of Hood Canal Shrimp for sale! Bring along your favorite decorated belt sander to enter the races that will be held at 11AM and 3PM. The tides are usually low enough during this weekend for easy harvest of clams and oysters on the public beaches near the festival (license required) and the weather is traditionally good during this holiday weekend. This is great family fun! Hours: Sat 10-6\, Sun 10-5 Proceeds from ShrimpFest will be donated to community projects.
LOCATION:Yelvicks General Store Field 251 Hjelvicks Road Brinnon\, WA 98320
UID:e.2672.3349
SEQUENCE:3
DTSTAMP:20260422T122435Z
URL:https://business.sequimchamber.com/events/details/hood-canal-shrimpfest-3349
END:VEVENT

END:VCALENDAR
