BEGIN:VCALENDAR
VERSION:2.0
PRODID:-//ChamberMaster//Event Calendar 2.0//EN
METHOD:PUBLISH
X-PUBLISHED-TTL:P3D
REFRESH-INTERVAL:P3D
CALSCALE:GREGORIAN
BEGIN:VEVENT
DTSTART:20180210T173000Z
DTEND:20180210T183000Z
X-MICROSOFT-CDO-ALLDAYEVENT:FALSE
SUMMARY:Hot air balloon rides for all
DESCRIPTION:At almost age 96\, WWII Veteran Private First Class Tom McKeown of Port Angeles\, WA will celebrate an early birthday dressed in his Marine Corp League uniform and in a hot air balloon operated by Dream Catcher Balloon and Executive Director\, Captain-Crystal Stout of Sequim\, WA. This special butterfly motif balloon will allow Tom to be transferred from a vehicle straight to a seat and a safe 5 point harness. Seated Tom will enjoy a tethered hot air balloon ride at the Sequim Valley Airport (468 Dorothy Hunt Lane\, Sequim WA) this Saturday\, February 10 at 9:30 AM. Veterans and their families are encouraged to cheer with Tom and also participate in a hot air balloon ride.
X-ALT-DESC;FMTTYPE=text/html:At almost age 96\, WWII Veteran Private First Class Tom McKeown of Port Angeles\, WA will celebrate an early birthday dressed in his Marine Corp League uniform and in a hot air balloon operated by Dream Catcher Balloon and Executive Director\, Captain-Crystal Stout of Sequim\, WA. This special butterfly motif balloon will allow Tom to be transferred from a vehicle straight to a seat and a safe 5 point harness. Seated Tom will enjoy a tethered hot air balloon ride at the Sequim Valley Airport (468 Dorothy Hunt Lane\, Sequim WA) this Saturday\, February 10 at 9:30 AM. Veterans and their families are encouraged to cheer with Tom and also participate in a hot air balloon ride.
LOCATION:Sequim Valley Airport
UID:e.2672.9122
SEQUENCE:3
DTSTAMP:20260424T095147Z
URL:https://business.sequimchamber.com/events/details/hot-air-balloon-rides-for-all-9122
END:VEVENT

END:VCALENDAR
